BEGIN:VCALENDAR
VERSION:2.0
PRODID:-//Unser Rosslau - ECPv6.15.20//NONSGML v1.0//EN
CALSCALE:GREGORIAN
METHOD:PUBLISH
X-ORIGINAL-URL:https://unser-rosslau.de
X-WR-CALDESC:Veranstaltungen für Unser Rosslau
REFRESH-INTERVAL;VALUE=DURATION:PT1H
X-Robots-Tag:noindex
X-PUBLISHED-TTL:PT1H
BEGIN:VTIMEZONE
TZID:Europe/Berlin
BEGIN:DAYLIGHT
TZOFFSETFROM:+0100
TZOFFSETTO:+0200
TZNAME:CEST
DTSTART:20250330T010000
END:DAYLIGHT
BEGIN:STANDARD
TZOFFSETFROM:+0200
TZOFFSETTO:+0100
TZNAME:CET
DTSTART:20251026T010000
END:STANDARD
BEGIN:DAYLIGHT
TZOFFSETFROM:+0100
TZOFFSETTO:+0200
TZNAME:CEST
DTSTART:20260329T010000
END:DAYLIGHT
BEGIN:STANDARD
TZOFFSETFROM:+0200
TZOFFSETTO:+0100
TZNAME:CET
DTSTART:20261025T010000
END:STANDARD
BEGIN:DAYLIGHT
TZOFFSETFROM:+0100
TZOFFSETTO:+0200
TZNAME:CEST
DTSTART:20270328T010000
END:DAYLIGHT
BEGIN:STANDARD
TZOFFSETFROM:+0200
TZOFFSETTO:+0100
TZNAME:CET
DTSTART:20271031T010000
END:STANDARD
END:VTIMEZONE
BEGIN:VEVENT
DTSTART;TZID=Europe/Berlin:20260314T150000
DTEND;TZID=Europe/Berlin:20260314T170000
DTSTAMP:20260424T160932
CREATED:20250822T120543Z
LAST-MODIFIED:20250827T093816Z
UID:5652-1773500400-1773507600@unser-rosslau.de
SUMMARY:SV Germania 08 Roßlau 1 Männer Auswärtsspiel
DESCRIPTION:Sa\, 14.03.2026\nAnstoß: 15:00\nSport- und Freizeitzentrum Friedersdorf\nAn den Gehren 10\n06774 Muldestausee-Friedersdorf\n\n\n\n\n\nSV Friedersdorf : SV Germania 08 Roßlau
URL:https://unser-rosslau.de/eintrag/sv-germania-08-rosslau-1-maenner-auswaertsspiel-8/
LOCATION:Sport- und Freizeitzentrum Friedersdorf An den Gehren 10 06774 Muldestausee-Friedersdorf
END:VEVENT
END:VCALENDAR