BEGIN:VCALENDAR
VERSION:2.0
PRODID:-//Unser Rosslau - ECPv6.15.20//NONSGML v1.0//EN
CALSCALE:GREGORIAN
METHOD:PUBLISH
X-ORIGINAL-URL:https://unser-rosslau.de
X-WR-CALDESC:Veranstaltungen für Unser Rosslau
REFRESH-INTERVAL;VALUE=DURATION:PT1H
X-Robots-Tag:noindex
X-PUBLISHED-TTL:PT1H
BEGIN:VTIMEZONE
TZID:Europe/Berlin
BEGIN:DAYLIGHT
TZOFFSETFROM:+0100
TZOFFSETTO:+0200
TZNAME:CEST
DTSTART:20250330T010000
END:DAYLIGHT
BEGIN:STANDARD
TZOFFSETFROM:+0200
TZOFFSETTO:+0100
TZNAME:CET
DTSTART:20251026T010000
END:STANDARD
BEGIN:DAYLIGHT
TZOFFSETFROM:+0100
TZOFFSETTO:+0200
TZNAME:CEST
DTSTART:20260329T010000
END:DAYLIGHT
BEGIN:STANDARD
TZOFFSETFROM:+0200
TZOFFSETTO:+0100
TZNAME:CET
DTSTART:20261025T010000
END:STANDARD
BEGIN:DAYLIGHT
TZOFFSETFROM:+0100
TZOFFSETTO:+0200
TZNAME:CEST
DTSTART:20270328T010000
END:DAYLIGHT
BEGIN:STANDARD
TZOFFSETFROM:+0200
TZOFFSETTO:+0100
TZNAME:CET
DTSTART:20271031T010000
END:STANDARD
END:VTIMEZONE
BEGIN:VEVENT
DTSTART;TZID=Europe/Berlin:20260321T150000
DTEND;TZID=Europe/Berlin:20260321T170000
DTSTAMP:20260424T160334
CREATED:20250822T120704Z
LAST-MODIFIED:20250822T120704Z
UID:5655-1774105200-1774112400@unser-rosslau.de
SUMMARY:SV Germania 08 Roßlau 1 Männer Heimspiel
DESCRIPTION:Sa\, 21.03.2026\nAnstoß: 15:00\nElbesportpark\nStreetzer Weg 7\n06862 Dessau-Roßlau\nSV Germania 08 Roßlau :Dessauer SV 97 I
URL:https://unser-rosslau.de/eintrag/sv-germania-08-rosslau-1-maenner-heimspiel-9/
LOCATION:Elbesportpark Streetzer Weg 7 06862 Dessau-Roßlau
ATTACH;FMTTYPE=image/webp:https://unser-rosslau.de/wp-content/uploads/2025/05/Screenshot_20250527_143205_GMX-Mail.webp
END:VEVENT
END:VCALENDAR