BEGIN:VCALENDAR
VERSION:2.0
PRODID:-//Unser Rosslau - ECPv6.15.20//NONSGML v1.0//EN
CALSCALE:GREGORIAN
METHOD:PUBLISH
X-WR-CALNAME:Unser Rosslau
X-ORIGINAL-URL:https://unser-rosslau.de
X-WR-CALDESC:Veranstaltungen für Unser Rosslau
REFRESH-INTERVAL;VALUE=DURATION:PT1H
X-Robots-Tag:noindex
X-PUBLISHED-TTL:PT1H
BEGIN:VTIMEZONE
TZID:Europe/Berlin
BEGIN:DAYLIGHT
TZOFFSETFROM:+0100
TZOFFSETTO:+0200
TZNAME:CEST
DTSTART:20250330T010000
END:DAYLIGHT
BEGIN:STANDARD
TZOFFSETFROM:+0200
TZOFFSETTO:+0100
TZNAME:CET
DTSTART:20251026T010000
END:STANDARD
BEGIN:DAYLIGHT
TZOFFSETFROM:+0100
TZOFFSETTO:+0200
TZNAME:CEST
DTSTART:20260329T010000
END:DAYLIGHT
BEGIN:STANDARD
TZOFFSETFROM:+0200
TZOFFSETTO:+0100
TZNAME:CET
DTSTART:20261025T010000
END:STANDARD
BEGIN:DAYLIGHT
TZOFFSETFROM:+0100
TZOFFSETTO:+0200
TZNAME:CEST
DTSTART:20270328T010000
END:DAYLIGHT
BEGIN:STANDARD
TZOFFSETFROM:+0200
TZOFFSETTO:+0100
TZNAME:CET
DTSTART:20271031T010000
END:STANDARD
END:VTIMEZONE
BEGIN:VEVENT
DTSTART;TZID=Europe/Berlin:20260328T110000
DTEND;TZID=Europe/Berlin:20260328T190000
DTSTAMP:20260424T160615
CREATED:20260322T174120Z
LAST-MODIFIED:20260322T174351Z
UID:8332-1774695600-1774724400@unser-rosslau.de
SUMMARY:Ostermarkt
DESCRIPTION:Ostermarkt auf der Wasserburg Roßlau \nAm Samstag\, den 28. März 2026\, lädt der traditionelle Ostermarkt auf der Wasserburg Roßlau von 11:00 bis 19:00 Uhr zum Frühlingsauftakt ein. \nFreuen Sie sich auf ein vielfältiges Angebot rund um Floristik\, Schmuck und Osterdekoration. Für das leibliche Wohl ist mit Speis und Trank bestens gesorgt. Außerdem erwarten die Besucher Handwerk\, Spiel & Spaß für die ganze Familie. \nEin besonderes Highlight für die kleinen Gäste: Ganztägiges Kinderkino. \nEin schöner Ausflug für Groß und Klein in historischer Atmosphäre!
URL:https://unser-rosslau.de/eintrag/ostermarkt/
LOCATION:Wasserburg Rosslau
END:VEVENT
END:VCALENDAR