BEGIN:VCALENDAR
VERSION:2.0
PRODID:-//Unser Rosslau - ECPv6.15.20//NONSGML v1.0//EN
CALSCALE:GREGORIAN
METHOD:PUBLISH
X-ORIGINAL-URL:https://unser-rosslau.de
X-WR-CALDESC:Veranstaltungen für Unser Rosslau
REFRESH-INTERVAL;VALUE=DURATION:PT1H
X-Robots-Tag:noindex
X-PUBLISHED-TTL:PT1H
BEGIN:VTIMEZONE
TZID:Europe/Berlin
BEGIN:DAYLIGHT
TZOFFSETFROM:+0100
TZOFFSETTO:+0200
TZNAME:CEST
DTSTART:20250330T010000
END:DAYLIGHT
BEGIN:STANDARD
TZOFFSETFROM:+0200
TZOFFSETTO:+0100
TZNAME:CET
DTSTART:20251026T010000
END:STANDARD
BEGIN:DAYLIGHT
TZOFFSETFROM:+0100
TZOFFSETTO:+0200
TZNAME:CEST
DTSTART:20260329T010000
END:DAYLIGHT
BEGIN:STANDARD
TZOFFSETFROM:+0200
TZOFFSETTO:+0100
TZNAME:CET
DTSTART:20261025T010000
END:STANDARD
BEGIN:DAYLIGHT
TZOFFSETFROM:+0100
TZOFFSETTO:+0200
TZNAME:CEST
DTSTART:20270328T010000
END:DAYLIGHT
BEGIN:STANDARD
TZOFFSETFROM:+0200
TZOFFSETTO:+0100
TZNAME:CET
DTSTART:20271031T010000
END:STANDARD
END:VTIMEZONE
BEGIN:VEVENT
DTSTART;TZID=Europe/Berlin:20260330T183000
DTEND;TZID=Europe/Berlin:20260330T200000
DTSTAMP:20260424T160921
CREATED:20260322T174802Z
LAST-MODIFIED:20260322T174954Z
UID:8335-1774895400-1774900800@unser-rosslau.de
SUMMARY:Stammtisch der Vereine
DESCRIPTION:Stammtisch der Vereine \nDer Stammtisch der Vereine bietet einmal im Monat die Gelegenheit zum Austausch\, zur Vernetzung und zum gemeinsamen Gespräch. \nAb 18:30 Uhr treffen sich Vertreterinnen und Vertreter unserer Vereine in geselliger Runde. In lockerer Atmosphäre werden Ideen besprochen\, Projekte abgestimmt und Kontakte gepflegt werden.
URL:https://unser-rosslau.de/eintrag/stammtisch-der-vereine-5/
LOCATION:Ritterklause Roßlau
END:VEVENT
END:VCALENDAR