BEGIN:VCALENDAR
VERSION:2.0
PRODID:-//Unser Rosslau - ECPv6.15.20//NONSGML v1.0//EN
CALSCALE:GREGORIAN
METHOD:PUBLISH
X-ORIGINAL-URL:https://unser-rosslau.de
X-WR-CALDESC:Veranstaltungen für Unser Rosslau
REFRESH-INTERVAL;VALUE=DURATION:PT1H
X-Robots-Tag:noindex
X-PUBLISHED-TTL:PT1H
BEGIN:VTIMEZONE
TZID:Europe/Berlin
BEGIN:DAYLIGHT
TZOFFSETFROM:+0100
TZOFFSETTO:+0200
TZNAME:CEST
DTSTART:20250330T010000
END:DAYLIGHT
BEGIN:STANDARD
TZOFFSETFROM:+0200
TZOFFSETTO:+0100
TZNAME:CET
DTSTART:20251026T010000
END:STANDARD
BEGIN:DAYLIGHT
TZOFFSETFROM:+0100
TZOFFSETTO:+0200
TZNAME:CEST
DTSTART:20260329T010000
END:DAYLIGHT
BEGIN:STANDARD
TZOFFSETFROM:+0200
TZOFFSETTO:+0100
TZNAME:CET
DTSTART:20261025T010000
END:STANDARD
BEGIN:DAYLIGHT
TZOFFSETFROM:+0100
TZOFFSETTO:+0200
TZNAME:CEST
DTSTART:20270328T010000
END:DAYLIGHT
BEGIN:STANDARD
TZOFFSETFROM:+0200
TZOFFSETTO:+0100
TZNAME:CET
DTSTART:20271031T010000
END:STANDARD
END:VTIMEZONE
BEGIN:VEVENT
DTSTART;TZID=Europe/Berlin:20260403T100000
DTEND;TZID=Europe/Berlin:20260403T130000
DTSTAMP:20260424T160335
CREATED:20260324T151142Z
LAST-MODIFIED:20260324T151142Z
UID:8352-1775210400-1775221200@unser-rosslau.de
SUMMARY:Ostertauchen
DESCRIPTION:Ostertauchen 2026 im Strandbad Adria \nDer Tauchverein „Seewölfe Dessau-Roßlau“ e.V. lädt auch in diesem Jahr herzlich zum traditionellen Ostertauchen ein. \nAm Karfreitag\, den 03. April 2026\, von 10:00 bis 13:00 Uhr verwandelt sich das Strandbad Adria in Dessau wieder in ein besonderes Erlebnis für Groß und Klein. \nNeben dem spannenden Tauchen erwartet die Besucher ein österliches Highlight: \nOstereier können sowohl unter Wasser als auch an Land gesucht werden. Damit ist für alle etwas dabei – egal ob Taucher oder Besucher.
URL:https://unser-rosslau.de/eintrag/ostertauchen/
LOCATION:Strandbad\, Waldbad Adria 1\, 06842
END:VEVENT
END:VCALENDAR