BEGIN:VCALENDAR
VERSION:2.0
PRODID:-//Unser Rosslau - ECPv6.15.20//NONSGML v1.0//EN
CALSCALE:GREGORIAN
METHOD:PUBLISH
X-ORIGINAL-URL:https://unser-rosslau.de
X-WR-CALDESC:Veranstaltungen für Unser Rosslau
REFRESH-INTERVAL;VALUE=DURATION:PT1H
X-Robots-Tag:noindex
X-PUBLISHED-TTL:PT1H
BEGIN:VTIMEZONE
TZID:Europe/Berlin
BEGIN:DAYLIGHT
TZOFFSETFROM:+0100
TZOFFSETTO:+0200
TZNAME:CEST
DTSTART:20250330T010000
END:DAYLIGHT
BEGIN:STANDARD
TZOFFSETFROM:+0200
TZOFFSETTO:+0100
TZNAME:CET
DTSTART:20251026T010000
END:STANDARD
BEGIN:DAYLIGHT
TZOFFSETFROM:+0100
TZOFFSETTO:+0200
TZNAME:CEST
DTSTART:20260329T010000
END:DAYLIGHT
BEGIN:STANDARD
TZOFFSETFROM:+0200
TZOFFSETTO:+0100
TZNAME:CET
DTSTART:20261025T010000
END:STANDARD
BEGIN:DAYLIGHT
TZOFFSETFROM:+0100
TZOFFSETTO:+0200
TZNAME:CEST
DTSTART:20270328T010000
END:DAYLIGHT
BEGIN:STANDARD
TZOFFSETFROM:+0200
TZOFFSETTO:+0100
TZNAME:CET
DTSTART:20271031T010000
END:STANDARD
END:VTIMEZONE
BEGIN:VEVENT
DTSTART;TZID=Europe/Berlin:20260425T100000
DTEND;TZID=Europe/Berlin:20260425T120000
DTSTAMP:20260424T161036
CREATED:20260120T125834Z
LAST-MODIFIED:20260202T125146Z
UID:8069-1777111200-1777118400@unser-rosslau.de
SUMMARY:Erinnerung an 400 Jahre Schlacht an der Elbbrücke - am Brückenkopf
DESCRIPTION:Samstag  25.04.2026\, Erinnerung an 400 Jahre Schlacht an der Elbbrücke\nFörderverein für das Militärhistorische Museum Anhalt e.V. und AG Heimatgeschichte Roßlau im Ölmühle e.V.\nTreff mit Landsknechten am Brückenkopf
URL:https://unser-rosslau.de/eintrag/grosse-sonderausstellung/
LOCATION:Brückenkopf an der Elbe
END:VEVENT
BEGIN:VEVENT
DTSTART;TZID=Europe/Berlin:20260425T100000
DTEND;TZID=Europe/Berlin:20260426T170000
DTSTAMP:20260424T161036
CREATED:20260120T125954Z
LAST-MODIFIED:20260120T130055Z
UID:8072-1777111200-1777222800@unser-rosslau.de
SUMMARY:Große Sonderausstellung Militärhistorisches Museum
DESCRIPTION:📅 Samstag\, 25. April & Sonntag\, 26. April 2026 \n🕙 10:00–17:00 Uhr
URL:https://unser-rosslau.de/eintrag/grosse-sonderausstellung-militaerhistorisches-museum/
LOCATION:Militärhistorisches Museum Am Finkenherd 1 06862 Dessau- Roßlau
END:VEVENT
BEGIN:VEVENT
DTSTART;TZID=Europe/Berlin:20260425T150000
DTEND;TZID=Europe/Berlin:20260425T170000
DTSTAMP:20260424T161036
CREATED:20250822T122111Z
LAST-MODIFIED:20250827T083015Z
UID:5665-1777129200-1777136400@unser-rosslau.de
SUMMARY:SV Germania 08 Roßlau 1 Männer Auswärtsspiel
DESCRIPTION:Sa\, 25.04.2026\nAnstoß: 15:00\nArthur-Lambert-Stadion\nWallstraße 20\n06886 Lutherstadt Wittenberg\n\n\n\n\n\n\n\n\nFC Victoria Wittenberg : SV Germania 08 Roßlau
URL:https://unser-rosslau.de/eintrag/sv-germania-08-rosslau-1-maenner-auswaertsspiel-11/
LOCATION:Arthur-Lambert-Stadion Wallstraße 20 06886 Lutherstadt Wittenberg
END:VEVENT
END:VCALENDAR