BEGIN:VCALENDAR
VERSION:2.0
PRODID:-//Unser Rosslau - ECPv6.15.20//NONSGML v1.0//EN
CALSCALE:GREGORIAN
METHOD:PUBLISH
X-WR-CALNAME:Unser Rosslau
X-ORIGINAL-URL:https://unser-rosslau.de
X-WR-CALDESC:Veranstaltungen für Unser Rosslau
REFRESH-INTERVAL;VALUE=DURATION:PT1H
X-Robots-Tag:noindex
X-PUBLISHED-TTL:PT1H
BEGIN:VTIMEZONE
TZID:Europe/Berlin
BEGIN:DAYLIGHT
TZOFFSETFROM:+0100
TZOFFSETTO:+0200
TZNAME:CEST
DTSTART:20250330T010000
END:DAYLIGHT
BEGIN:STANDARD
TZOFFSETFROM:+0200
TZOFFSETTO:+0100
TZNAME:CET
DTSTART:20251026T010000
END:STANDARD
BEGIN:DAYLIGHT
TZOFFSETFROM:+0100
TZOFFSETTO:+0200
TZNAME:CEST
DTSTART:20260329T010000
END:DAYLIGHT
BEGIN:STANDARD
TZOFFSETFROM:+0200
TZOFFSETTO:+0100
TZNAME:CET
DTSTART:20261025T010000
END:STANDARD
BEGIN:DAYLIGHT
TZOFFSETFROM:+0100
TZOFFSETTO:+0200
TZNAME:CEST
DTSTART:20270328T010000
END:DAYLIGHT
BEGIN:STANDARD
TZOFFSETFROM:+0200
TZOFFSETTO:+0100
TZNAME:CET
DTSTART:20271031T010000
END:STANDARD
END:VTIMEZONE
BEGIN:VEVENT
DTSTART;TZID=Europe/Berlin:20260428T180000
DTEND;TZID=Europe/Berlin:20260428T210000
DTSTAMP:20260424T144059
CREATED:20260202T125519Z
LAST-MODIFIED:20260202T125519Z
UID:8150-1777399200-1777410000@unser-rosslau.de
SUMMARY:„400 Jahre Schlacht an der Dessauer Elbbrücke am 25.04.1626 – ein Tag von europäischer Dimension“
DESCRIPTION:Dienstag   28.04.2026\, 18.00 Uhr\, Alter Wasserturm\nGemeinsame Vortrags- und Ausstellungsveranstaltung des Landesarchivs Sachsen-Anhalt\, Abt. Dessau\, des Kulturamtes der Stadt Dessau-Roßlau und der Regionalgruppe Dessau des VAL\nRoland Sennewald\, Leipzig: „400 Jahre Schlacht an der Dessauer Elbbrücke am 25.04.1626 – ein Tag von europäischer Dimension“
URL:https://unser-rosslau.de/eintrag/400-jahre-schlacht-an-der-dessauer-elbbruecke-am-25-04-1626-ein-tag-von-europaeischer-dimension/
LOCATION:Alter Wasserturm\, Dessau
END:VEVENT
END:VCALENDAR