BEGIN:VCALENDAR
VERSION:2.0
PRODID:-//Unser Rosslau - ECPv6.15.20//NONSGML v1.0//EN
CALSCALE:GREGORIAN
METHOD:PUBLISH
X-WR-CALNAME:Unser Rosslau
X-ORIGINAL-URL:https://unser-rosslau.de
X-WR-CALDESC:Veranstaltungen für Unser Rosslau
REFRESH-INTERVAL;VALUE=DURATION:PT1H
X-Robots-Tag:noindex
X-PUBLISHED-TTL:PT1H
BEGIN:VTIMEZONE
TZID:Europe/Berlin
BEGIN:DAYLIGHT
TZOFFSETFROM:+0100
TZOFFSETTO:+0200
TZNAME:CEST
DTSTART:20250330T010000
END:DAYLIGHT
BEGIN:STANDARD
TZOFFSETFROM:+0200
TZOFFSETTO:+0100
TZNAME:CET
DTSTART:20251026T010000
END:STANDARD
BEGIN:DAYLIGHT
TZOFFSETFROM:+0100
TZOFFSETTO:+0200
TZNAME:CEST
DTSTART:20260329T010000
END:DAYLIGHT
BEGIN:STANDARD
TZOFFSETFROM:+0200
TZOFFSETTO:+0100
TZNAME:CET
DTSTART:20261025T010000
END:STANDARD
BEGIN:DAYLIGHT
TZOFFSETFROM:+0100
TZOFFSETTO:+0200
TZNAME:CEST
DTSTART:20270328T010000
END:DAYLIGHT
BEGIN:STANDARD
TZOFFSETFROM:+0200
TZOFFSETTO:+0100
TZNAME:CET
DTSTART:20271031T010000
END:STANDARD
END:VTIMEZONE
BEGIN:VEVENT
DTSTART;TZID=Europe/Berlin:20260516T100000
DTEND;TZID=Europe/Berlin:20260516T230000
DTSTAMP:20260424T160708
CREATED:20260421T113310Z
LAST-MODIFIED:20260421T113317Z
UID:8559-1778925600-1778972400@unser-rosslau.de
SUMMARY:Rossmarkt
DESCRIPTION:Save the Date! \nDer Rossmarkt ist zurück!Freut euch auf einen bunten Tag voller Stände\, Begegnungen und guter Stimmung. \n📅 16.05.2026
URL:https://unser-rosslau.de/eintrag/rossmarkt-2/
LOCATION:Wasserburg Rosslau
END:VEVENT
BEGIN:VEVENT
DTSTART;TZID=Europe/Berlin:20260516T150000
DTEND;TZID=Europe/Berlin:20260516T170000
DTSTAMP:20260424T160708
CREATED:20250822T122406Z
LAST-MODIFIED:20250827T084738Z
UID:5671-1778943600-1778950800@unser-rosslau.de
SUMMARY:SV Germania 08 Roßlau 1 Männer Auswärtsspiel
DESCRIPTION:Sa\, 16.05.2026\nAnstoß: 15:00\nSportplatz Rösa\nKrinaer Straße\n06774 Muldestausee-Rösa\n\n\n\n\n\n\n\n\n\nSV 1922 Pouch-Rösa : SV Germania 08 Roßlau
URL:https://unser-rosslau.de/eintrag/sv-germania-08-rosslau-1-maenner-auswaertsspiel-12/
LOCATION:Sportplatz Rösa Krinaer Straße 06774 Muldestausee-Rösa
END:VEVENT
END:VCALENDAR