BEGIN:VCALENDAR
VERSION:2.0
PRODID:-//Unser Rosslau - ECPv6.15.20//NONSGML v1.0//EN
CALSCALE:GREGORIAN
METHOD:PUBLISH
X-ORIGINAL-URL:https://unser-rosslau.de
X-WR-CALDESC:Veranstaltungen für Unser Rosslau
REFRESH-INTERVAL;VALUE=DURATION:PT1H
X-Robots-Tag:noindex
X-PUBLISHED-TTL:PT1H
BEGIN:VTIMEZONE
TZID:Europe/Berlin
BEGIN:DAYLIGHT
TZOFFSETFROM:+0100
TZOFFSETTO:+0200
TZNAME:CEST
DTSTART:20250330T010000
END:DAYLIGHT
BEGIN:STANDARD
TZOFFSETFROM:+0200
TZOFFSETTO:+0100
TZNAME:CET
DTSTART:20251026T010000
END:STANDARD
BEGIN:DAYLIGHT
TZOFFSETFROM:+0100
TZOFFSETTO:+0200
TZNAME:CEST
DTSTART:20260329T010000
END:DAYLIGHT
BEGIN:STANDARD
TZOFFSETFROM:+0200
TZOFFSETTO:+0100
TZNAME:CET
DTSTART:20261025T010000
END:STANDARD
BEGIN:DAYLIGHT
TZOFFSETFROM:+0100
TZOFFSETTO:+0200
TZNAME:CEST
DTSTART:20270328T010000
END:DAYLIGHT
BEGIN:STANDARD
TZOFFSETFROM:+0200
TZOFFSETTO:+0100
TZNAME:CET
DTSTART:20271031T010000
END:STANDARD
END:VTIMEZONE
BEGIN:VEVENT
DTSTART;TZID=Europe/Berlin:20260519T180000
DTEND;TZID=Europe/Berlin:20260519T210000
DTSTAMP:20260424T160319
CREATED:20260202T125753Z
LAST-MODIFIED:20260202T130903Z
UID:8153-1779213600-1779224400@unser-rosslau.de
SUMMARY:AG Heimatgeschichte Roßlau Vortrag „Zur Baugeschichte der Roßlauer Wasserburg: Der Wiederaufbau der Burg nach dem Dreißigjährigen Krieg“
DESCRIPTION:Dienstag  19.05.2026\, 18.00 Uhr\, Wasserburg Roßlau\, Torscheune\nAG Heimatgeschichte Roßlau\nTorsten Vollert\, Dessau-Roßlau: „Zur Baugeschichte der Roßlauer Wasserburg: Der Wiederaufbau der Burg nach dem Dreißigjährigen Krieg“
URL:https://unser-rosslau.de/eintrag/ag-heimatgeschichte-rosslau-3/
LOCATION:Wasserburg Roßlau\, Torscheune
END:VEVENT
END:VCALENDAR