BEGIN:VCALENDAR
VERSION:2.0
PRODID:-//Unser Rosslau - ECPv6.15.20//NONSGML v1.0//EN
CALSCALE:GREGORIAN
METHOD:PUBLISH
X-WR-CALNAME:Unser Rosslau
X-ORIGINAL-URL:https://unser-rosslau.de
X-WR-CALDESC:Veranstaltungen für Unser Rosslau
REFRESH-INTERVAL;VALUE=DURATION:PT1H
X-Robots-Tag:noindex
X-PUBLISHED-TTL:PT1H
BEGIN:VTIMEZONE
TZID:Europe/Berlin
BEGIN:DAYLIGHT
TZOFFSETFROM:+0100
TZOFFSETTO:+0200
TZNAME:CEST
DTSTART:20260329T010000
END:DAYLIGHT
BEGIN:STANDARD
TZOFFSETFROM:+0200
TZOFFSETTO:+0100
TZNAME:CET
DTSTART:20261025T010000
END:STANDARD
BEGIN:DAYLIGHT
TZOFFSETFROM:+0100
TZOFFSETTO:+0200
TZNAME:CEST
DTSTART:20270328T010000
END:DAYLIGHT
BEGIN:STANDARD
TZOFFSETFROM:+0200
TZOFFSETTO:+0100
TZNAME:CET
DTSTART:20271031T010000
END:STANDARD
BEGIN:DAYLIGHT
TZOFFSETFROM:+0100
TZOFFSETTO:+0200
TZNAME:CEST
DTSTART:20280326T010000
END:DAYLIGHT
BEGIN:STANDARD
TZOFFSETFROM:+0200
TZOFFSETTO:+0100
TZNAME:CET
DTSTART:20281029T010000
END:STANDARD
END:VTIMEZONE
BEGIN:VEVENT
DTSTART;TZID=Europe/Berlin:20270119T180000
DTEND;TZID=Europe/Berlin:20270119T210000
DTSTAMP:20260425T032008
CREATED:20260202T140328Z
LAST-MODIFIED:20260202T140328Z
UID:8170-1800381600-1800392400@unser-rosslau.de
SUMMARY:AG Heimatgeschichte Roßlau Programm 2027\, Beiträge für Veröffentlichungen
DESCRIPTION:Dienstag  19.01.2027\, 18.00 Uhr\, Ölmühle Roßlau\nAG Heimatgeschichte Roßlau\nProgramm 2027\, Beiträge für Veröffentlichungen
URL:https://unser-rosslau.de/eintrag/ag-heimatgeschichte-rosslau-programm-2027-beitraege-fuer-veroeffentlichungen/
LOCATION:Olmühle Roßlau
END:VEVENT
END:VCALENDAR