BEGIN:VCALENDAR
VERSION:2.0
PRODID:-//Unser Rosslau - ECPv6.15.20//NONSGML v1.0//EN
CALSCALE:GREGORIAN
METHOD:PUBLISH
X-WR-CALNAME:Unser Rosslau
X-ORIGINAL-URL:https://unser-rosslau.de
X-WR-CALDESC:Veranstaltungen für Unser Rosslau
REFRESH-INTERVAL;VALUE=DURATION:PT1H
X-Robots-Tag:noindex
X-PUBLISHED-TTL:PT1H
BEGIN:VTIMEZONE
TZID:Europe/Berlin
BEGIN:DAYLIGHT
TZOFFSETFROM:+0100
TZOFFSETTO:+0200
TZNAME:CEST
DTSTART:20250330T010000
END:DAYLIGHT
BEGIN:STANDARD
TZOFFSETFROM:+0200
TZOFFSETTO:+0100
TZNAME:CET
DTSTART:20251026T010000
END:STANDARD
BEGIN:DAYLIGHT
TZOFFSETFROM:+0100
TZOFFSETTO:+0200
TZNAME:CEST
DTSTART:20260329T010000
END:DAYLIGHT
BEGIN:STANDARD
TZOFFSETFROM:+0200
TZOFFSETTO:+0100
TZNAME:CET
DTSTART:20261025T010000
END:STANDARD
BEGIN:DAYLIGHT
TZOFFSETFROM:+0100
TZOFFSETTO:+0200
TZNAME:CEST
DTSTART:20270328T010000
END:DAYLIGHT
BEGIN:STANDARD
TZOFFSETFROM:+0200
TZOFFSETTO:+0100
TZNAME:CET
DTSTART:20271031T010000
END:STANDARD
END:VTIMEZONE
BEGIN:VEVENT
DTSTART;TZID=Europe/Berlin:20260207T000000
DTEND;TZID=Europe/Berlin:20260207T235959
DTSTAMP:20260424T161541
CREATED:20250605T112452Z
LAST-MODIFIED:20250902T091630Z
UID:4529-1770422400-1770508799@unser-rosslau.de
SUMMARY:60 Jahre Roßlauer Karnevalsverein! Abendveranstaltung
DESCRIPTION:
URL:https://unser-rosslau.de/eintrag/60-jahre-rosslauer-karnevalsverein-abendveranstaltung/
LOCATION:Gaststätte „Zur Erholung“ Alte Turnhalle\, Goethestr. 46\, Dessau-Rosslau\, 06862
ATTACH;FMTTYPE=image/webp:https://unser-rosslau.de/wp-content/uploads/2025/05/Screenshot_20250527_143205_GMX-Mail.webp
END:VEVENT
BEGIN:VEVENT
DTSTART;TZID=Europe/Berlin:20260208T000000
DTEND;TZID=Europe/Berlin:20260208T235959
DTSTAMP:20260424T161541
CREATED:20250605T112601Z
LAST-MODIFIED:20250902T091630Z
UID:4531-1770508800-1770595199@unser-rosslau.de
SUMMARY:60 Jahre Roßlauer Karnevalsverein! Nachmittagsveranstaltung
DESCRIPTION:
URL:https://unser-rosslau.de/eintrag/60-jahre-rosslauer-karnevalsverein-nachmittagsveranstaltung/
LOCATION:Gaststätte „Zur Erholung“ Alte Turnhalle\, Goethestr. 46\, Dessau-Rosslau\, 06862
ATTACH;FMTTYPE=image/webp:https://unser-rosslau.de/wp-content/uploads/2025/05/Screenshot_20250527_143205_GMX-Mail.webp
END:VEVENT
BEGIN:VEVENT
DTSTART;TZID=Europe/Berlin:20260213T000000
DTEND;TZID=Europe/Berlin:20260213T235959
DTSTAMP:20260424T161541
CREATED:20250605T112633Z
LAST-MODIFIED:20250902T091629Z
UID:4533-1770940800-1771027199@unser-rosslau.de
SUMMARY:60 Jahre Roßlauer Karnevalsverein! Faschingsveranstaltung
DESCRIPTION:
URL:https://unser-rosslau.de/eintrag/60-jahre-rosslauer-karnevalsverein-faschingsveranstaltung-2/
LOCATION:Gaststätte „Zur Erholung“ Alte Turnhalle\, Goethestr. 46\, Dessau-Rosslau\, 06862
ATTACH;FMTTYPE=image/webp:https://unser-rosslau.de/wp-content/uploads/2025/05/Screenshot_20250527_143205_GMX-Mail.webp
END:VEVENT
BEGIN:VEVENT
DTSTART;TZID=Europe/Berlin:20260214T000000
DTEND;TZID=Europe/Berlin:20260214T235959
DTSTAMP:20260424T161541
CREATED:20250707T100726Z
LAST-MODIFIED:20250902T064433Z
UID:5233-1771027200-1771113599@unser-rosslau.de
SUMMARY:Saltatio Burgus Renaissanceball
DESCRIPTION:  \n  \nEs geschah am Valentinstag \nals jeder Vogel kam \num seinen Partner zu wählen \nWann: 14. Februar 2026 \nWo: Stadthalle Zerbst \nAnfragen unter Mail thomas@rananarmo.de \n01727917001
URL:https://unser-rosslau.de/eintrag/saltatio-burgus-renaissanceball/
LOCATION:Stadthalle Zerbst
END:VEVENT
BEGIN:VEVENT
DTSTART;TZID=Europe/Berlin:20260221T140000
DTEND;TZID=Europe/Berlin:20260221T160000
DTSTAMP:20260424T161541
CREATED:20250822T115830Z
LAST-MODIFIED:20250827T093933Z
UID:5639-1771682400-1771689600@unser-rosslau.de
SUMMARY:SV Germania 08 Roßlau 1 Männer Heimspiel
DESCRIPTION:Sa\, 21.02.2026\nAnstoß: 14:00\nElbesportpark\nStreetzer Weg 7\n06862 Dessau-Roßlau\nSV Germania 08 Roßlau :SV Allemannia 08 Jessen
URL:https://unser-rosslau.de/eintrag/sv-germania-08-rosslau-1-maenner-heimspiel-7/
LOCATION:Elbesportpark Streetzer Weg 7 06862 Dessau-Roßlau
END:VEVENT
BEGIN:VEVENT
DTSTART;TZID=Europe/Berlin:20260226T170000
DTEND;TZID=Europe/Berlin:20260226T183000
DTSTAMP:20260424T161541
CREATED:20260115T185155Z
LAST-MODIFIED:20260115T185323Z
UID:8045-1772125200-1772130600@unser-rosslau.de
SUMMARY:Ortschaftsrat
DESCRIPTION:Sitzung des Ortschaftsrates Roßlau \nDer Ortschaftsrat Roßlau tritt am Donnerstag\, den 26.02.2026\, zu seiner nächsten Sitzung zusammen. \n🕔 Beginn: 17:00 Uhr📍 Ort: Ratssaal 1.33\, Rathaus Roßlau\, Markt 5 \nDie Sitzung ist öffentlich. Interessierte Bürgerinnen und Bürger sind herzlich eingeladen.
URL:https://unser-rosslau.de/eintrag/ortschaftsrat-2/
LOCATION:Militärhistorisches Museum Am Finkenherd 1 06862 Dessau- Roßlau
END:VEVENT
END:VCALENDAR