BEGIN:VCALENDAR
VERSION:2.0
PRODID:-//Unser Rosslau - ECPv6.15.20//NONSGML v1.0//EN
CALSCALE:GREGORIAN
METHOD:PUBLISH
X-WR-CALNAME:Unser Rosslau
X-ORIGINAL-URL:https://unser-rosslau.de
X-WR-CALDESC:Veranstaltungen für Unser Rosslau
REFRESH-INTERVAL;VALUE=DURATION:PT1H
X-Robots-Tag:noindex
X-PUBLISHED-TTL:PT1H
BEGIN:VTIMEZONE
TZID:Europe/Berlin
BEGIN:DAYLIGHT
TZOFFSETFROM:+0100
TZOFFSETTO:+0200
TZNAME:CEST
DTSTART:20250330T010000
END:DAYLIGHT
BEGIN:STANDARD
TZOFFSETFROM:+0200
TZOFFSETTO:+0100
TZNAME:CET
DTSTART:20251026T010000
END:STANDARD
BEGIN:DAYLIGHT
TZOFFSETFROM:+0100
TZOFFSETTO:+0200
TZNAME:CEST
DTSTART:20260329T010000
END:DAYLIGHT
BEGIN:STANDARD
TZOFFSETFROM:+0200
TZOFFSETTO:+0100
TZNAME:CET
DTSTART:20261025T010000
END:STANDARD
BEGIN:DAYLIGHT
TZOFFSETFROM:+0100
TZOFFSETTO:+0200
TZNAME:CEST
DTSTART:20270328T010000
END:DAYLIGHT
BEGIN:STANDARD
TZOFFSETFROM:+0200
TZOFFSETTO:+0100
TZNAME:CET
DTSTART:20271031T010000
END:STANDARD
END:VTIMEZONE
BEGIN:VEVENT
DTSTART;TZID=Europe/Berlin:20260501T100000
DTEND;TZID=Europe/Berlin:20260501T170000
DTSTAMP:20260424T144058
CREATED:20260405T113626Z
LAST-MODIFIED:20260405T113626Z
UID:8414-1777629600-1777654800@unser-rosslau.de
SUMMARY:Ritterspiele auf der Burg
DESCRIPTION:Wir freuen uns auf Ihren Besuch am 30.04 & 01.05.2026 zu den Ritterspielen auf der Wasserburg Roßlau!
URL:https://unser-rosslau.de/eintrag/ritterspiele-auf-der-burg-2/
LOCATION:Wasserburg Rosslau
END:VEVENT
BEGIN:VEVENT
DTSTART;TZID=Europe/Berlin:20260508T170000
DTEND;TZID=Europe/Berlin:20260508T220000
DTSTAMP:20260424T144058
CREATED:20260405T113934Z
LAST-MODIFIED:20260405T113934Z
UID:8416-1778259600-1778277600@unser-rosslau.de
SUMMARY:Landesliteraturtage \,\,Lange Nacht des Lachens''
DESCRIPTION:Im Rahmen der Landesliteraturtage lädt die „Lange Nacht des Lachens“ zu einem unterhaltsamen Abend auf die Wasserburg ein. Von 17:00 bis 22:00 Uhr erwartet die Besucherinnen und Besucher in der Torscheune ein abwechslungsreiches Programm mit humorvollen Lesungen\, literarischen Beiträgen und überraschenden Aktionen. Freuen Sie sich auf einen Abend voller Witz\, Charme und lebendiger Literatur in besonderer Atmosphäre.
URL:https://unser-rosslau.de/eintrag/landesliteraturtage-lange-nacht-des-lachens/
LOCATION:Wasserburg Rosslau
END:VEVENT
BEGIN:VEVENT
DTSTART;TZID=Europe/Berlin:20260509T100000
DTEND;TZID=Europe/Berlin:20260509T180000
DTSTAMP:20260424T144058
CREATED:20260326T104758Z
LAST-MODIFIED:20260326T104758Z
UID:8355-1778320800-1778349600@unser-rosslau.de
SUMMARY:Kreativmarkt
DESCRIPTION:Kreativmarkt & Rossmarkt am 09.05.2026 auf der Wasserburg Roßlau!\n \nWir freuen uns auf Ihr kommen!
URL:https://unser-rosslau.de/eintrag/kreativmarkt/
LOCATION:Wasserburg Rosslau
END:VEVENT
BEGIN:VEVENT
DTSTART;TZID=Europe/Berlin:20260509T150000
DTEND;TZID=Europe/Berlin:20260509T170000
DTSTAMP:20260424T144058
CREATED:20250822T122215Z
LAST-MODIFIED:20250827T093545Z
UID:5669-1778338800-1778346000@unser-rosslau.de
SUMMARY:SV Germania 08 Roßlau 1 Männer Heimspiel
DESCRIPTION:Sa\, 09.05.2026\nAnstoß: 15:00\nElbesportpark\nStreetzer Weg 7\n06862 Dessau-Roßlau\nSV Germania 08 Roßlau :SV Seegrehna
URL:https://unser-rosslau.de/eintrag/sv-germania-08-rosslau-1-maenner-heimspiel-11/
LOCATION:Elbesportpark Streetzer Weg 7 06862 Dessau-Roßlau
END:VEVENT
BEGIN:VEVENT
DTSTART;TZID=Europe/Berlin:20260510T100000
DTEND;TZID=Europe/Berlin:20260510T160000
DTSTAMP:20260424T144058
CREATED:20260125T150108Z
LAST-MODIFIED:20260421T113237Z
UID:8094-1778407200-1778428800@unser-rosslau.de
SUMMARY:Kreativmarkt
DESCRIPTION:
URL:https://unser-rosslau.de/eintrag/rossmarkt/
LOCATION:Militärhistorisches Museum Am Finkenherd 1 06862 Dessau- Roßlau
ATTACH;FMTTYPE=image/webp:https://unser-rosslau.de/wp-content/uploads/2026/01/Rossmarkt-scaled.webp
END:VEVENT
BEGIN:VEVENT
DTSTART;TZID=Europe/Berlin:20260516T100000
DTEND;TZID=Europe/Berlin:20260516T230000
DTSTAMP:20260424T144058
CREATED:20260421T113310Z
LAST-MODIFIED:20260421T113317Z
UID:8559-1778925600-1778972400@unser-rosslau.de
SUMMARY:Rossmarkt
DESCRIPTION:Save the Date! \nDer Rossmarkt ist zurück!Freut euch auf einen bunten Tag voller Stände\, Begegnungen und guter Stimmung. \n📅 16.05.2026
URL:https://unser-rosslau.de/eintrag/rossmarkt-2/
LOCATION:Wasserburg Rosslau
END:VEVENT
BEGIN:VEVENT
DTSTART;TZID=Europe/Berlin:20260516T150000
DTEND;TZID=Europe/Berlin:20260516T170000
DTSTAMP:20260424T144058
CREATED:20250822T122406Z
LAST-MODIFIED:20250827T084738Z
UID:5671-1778943600-1778950800@unser-rosslau.de
SUMMARY:SV Germania 08 Roßlau 1 Männer Auswärtsspiel
DESCRIPTION:Sa\, 16.05.2026\nAnstoß: 15:00\nSportplatz Rösa\nKrinaer Straße\n06774 Muldestausee-Rösa\n\n\n\n\n\n\n\n\n\nSV 1922 Pouch-Rösa : SV Germania 08 Roßlau
URL:https://unser-rosslau.de/eintrag/sv-germania-08-rosslau-1-maenner-auswaertsspiel-12/
LOCATION:Sportplatz Rösa Krinaer Straße 06774 Muldestausee-Rösa
END:VEVENT
BEGIN:VEVENT
DTSTART;TZID=Europe/Berlin:20260519T180000
DTEND;TZID=Europe/Berlin:20260519T210000
DTSTAMP:20260424T144058
CREATED:20260202T125753Z
LAST-MODIFIED:20260202T130903Z
UID:8153-1779213600-1779224400@unser-rosslau.de
SUMMARY:AG Heimatgeschichte Roßlau Vortrag „Zur Baugeschichte der Roßlauer Wasserburg: Der Wiederaufbau der Burg nach dem Dreißigjährigen Krieg“
DESCRIPTION:Dienstag  19.05.2026\, 18.00 Uhr\, Wasserburg Roßlau\, Torscheune\nAG Heimatgeschichte Roßlau\nTorsten Vollert\, Dessau-Roßlau: „Zur Baugeschichte der Roßlauer Wasserburg: Der Wiederaufbau der Burg nach dem Dreißigjährigen Krieg“
URL:https://unser-rosslau.de/eintrag/ag-heimatgeschichte-rosslau-3/
LOCATION:Wasserburg Roßlau\, Torscheune
END:VEVENT
BEGIN:VEVENT
DTSTART;TZID=Europe/Berlin:20260526T150000
DTEND;TZID=Europe/Berlin:20260526T170000
DTSTAMP:20260424T144058
CREATED:20260405T114213Z
LAST-MODIFIED:20260405T114213Z
UID:8418-1779807600-1779814800@unser-rosslau.de
SUMMARY:Vortrag \,\,400 Jahre Schlacht an der Elbbrücke''
DESCRIPTION:Wiederholung des Vortrags: „400 Jahre Schlacht an der Elbbrücke“ am 26.05.2026\, 15:00 Uhr in der ÖlmühleVortrag (Wiederholung) zum historischen Ereignis mit Einblicken und Hintergründen zur Schlacht an der Elbbrücke
URL:https://unser-rosslau.de/eintrag/vortrag-400-jahre-schlacht-an-der-elbbruecke/
LOCATION:Olmühle Roßlau
END:VEVENT
BEGIN:VEVENT
DTSTART;TZID=Europe/Berlin:20260528T170000
DTEND;TZID=Europe/Berlin:20260528T183000
DTSTAMP:20260424T144058
CREATED:20260115T190019Z
LAST-MODIFIED:20260115T190019Z
UID:8051-1779987600-1779993000@unser-rosslau.de
SUMMARY:Ortschaftsrat
DESCRIPTION:Sitzung des Ortschaftsrates Roßlau \nDer Ortschaftsrat Roßlau tritt am Donnerstag\, den 28.05.2026\, zu seiner nächsten Sitzung zusammen. \n🕔 Beginn: 17:00 Uhr📍 Ort: Ratssaal 1.33\, Rathaus Roßlau\, Markt 5 \nDie Sitzung ist öffentlich. Interessierte Bürgerinnen und Bürger sind herzlich eingeladen.
URL:https://unser-rosslau.de/eintrag/ortschaftsrat-5/
LOCATION:Elbesportpark Streetzer Weg 7 06862 Dessau-Roßlau
END:VEVENT
BEGIN:VEVENT
DTSTART;TZID=Europe/Berlin:20260530T150000
DTEND;TZID=Europe/Berlin:20260530T170000
DTSTAMP:20260424T144058
CREATED:20250822T122514Z
LAST-MODIFIED:20250827T082959Z
UID:5674-1780153200-1780160400@unser-rosslau.de
SUMMARY:SV Germania 08 Roßlau 1 Männer Heimspiel
DESCRIPTION:Sa\, 30.05.2026\nAnstoß: 15:00\nElbesportpark\nStreetzer Weg 7\n06862 Dessau-Roßlau\nSV Germania 08 Roßlau :FC Stahl Aken
URL:https://unser-rosslau.de/eintrag/sv-germania-08-rosslau-1-maenner-heimspiel-12/
LOCATION:Elbesportpark Streetzer Weg 7 06862 Dessau-Roßlau
END:VEVENT
END:VCALENDAR