BEGIN:VCALENDAR
VERSION:2.0
PRODID:-//Unser Rosslau - ECPv6.15.20//NONSGML v1.0//EN
CALSCALE:GREGORIAN
METHOD:PUBLISH
X-ORIGINAL-URL:https://unser-rosslau.de
X-WR-CALDESC:Veranstaltungen für Unser Rosslau
REFRESH-INTERVAL;VALUE=DURATION:PT1H
X-Robots-Tag:noindex
X-PUBLISHED-TTL:PT1H
BEGIN:VTIMEZONE
TZID:Europe/Berlin
BEGIN:DAYLIGHT
TZOFFSETFROM:+0100
TZOFFSETTO:+0200
TZNAME:CEST
DTSTART:20250330T010000
END:DAYLIGHT
BEGIN:STANDARD
TZOFFSETFROM:+0200
TZOFFSETTO:+0100
TZNAME:CET
DTSTART:20251026T010000
END:STANDARD
BEGIN:DAYLIGHT
TZOFFSETFROM:+0100
TZOFFSETTO:+0200
TZNAME:CEST
DTSTART:20260329T010000
END:DAYLIGHT
BEGIN:STANDARD
TZOFFSETFROM:+0200
TZOFFSETTO:+0100
TZNAME:CET
DTSTART:20261025T010000
END:STANDARD
BEGIN:DAYLIGHT
TZOFFSETFROM:+0100
TZOFFSETTO:+0200
TZNAME:CEST
DTSTART:20270328T010000
END:DAYLIGHT
BEGIN:STANDARD
TZOFFSETFROM:+0200
TZOFFSETTO:+0100
TZNAME:CET
DTSTART:20271031T010000
END:STANDARD
END:VTIMEZONE
BEGIN:VEVENT
DTSTART;TZID=Europe/Berlin:20260911T190000
DTEND;TZID=Europe/Berlin:20260911T230000
DTSTAMP:20260424T202306
CREATED:20260317T112829Z
LAST-MODIFIED:20260317T112829Z
UID:8322-1789153200-1789167600@unser-rosslau.de
SUMMARY:Freitags Tingel
DESCRIPTION:Freitag\, 11.09.2026 spielen auf der Burg Quaster & Friends\, Hardy und Just Older
URL:https://unser-rosslau.de/eintrag/freitags-tingel/
END:VEVENT
BEGIN:VEVENT
DTSTART;TZID=Europe/Berlin:20260915T180000
DTEND;TZID=Europe/Berlin:20260915T210000
DTSTAMP:20260424T202306
CREATED:20260202T131323Z
LAST-MODIFIED:20260202T131323Z
UID:8164-1789495200-1789506000@unser-rosslau.de
SUMMARY:AG Heimatgeschichte Roßlau
DESCRIPTION:Dienstag  15.09.2026\, 18.00 Uhr\, Ölmühle Roßlau\nAG Heimatgeschichte Roßlau
URL:https://unser-rosslau.de/eintrag/ag-heimatgeschichte-rosslau-5/
LOCATION:Olmühle Roßlau
END:VEVENT
BEGIN:VEVENT
DTSTART;TZID=Europe/Berlin:20260928T183000
DTEND;TZID=Europe/Berlin:20260928T200000
DTSTAMP:20260424T202306
CREATED:20260322T175451Z
LAST-MODIFIED:20260322T175451Z
UID:8346-1790620200-1790625600@unser-rosslau.de
SUMMARY:Stammtisch der Vereine
DESCRIPTION:Stammtisch der Vereine \nDer Stammtisch der Vereine bietet einmal im Monat die Gelegenheit zum Austausch\, zur Vernetzung und zum gemeinsamen Gespräch. \nAb 18:30 Uhr treffen sich Vertreterinnen und Vertreter unserer Vereine in geselliger Runde. In lockerer Atmosphäre werden Ideen besprochen\, Projekte abgestimmt und Kontakte gepflegt werden.
URL:https://unser-rosslau.de/eintrag/stammtisch-der-vereine-9/
LOCATION:Ritterklause Roßlau
END:VEVENT
END:VCALENDAR